BEGIN:VCALENDAR
VERSION:2.0
PRODID:-//bysarahsteele.com - ECPv6.15.17.1//NONSGML v1.0//EN
CALSCALE:GREGORIAN
METHOD:PUBLISH
X-WR-CALNAME:bysarahsteele.com
X-ORIGINAL-URL:https://bysarahsteele.com
X-WR-CALDESC:Events for bysarahsteele.com
REFRESH-INTERVAL;VALUE=DURATION:PT1H
X-Robots-Tag:noindex
X-PUBLISHED-TTL:PT1H
BEGIN:VTIMEZONE
TZID:America/Detroit
BEGIN:DAYLIGHT
TZOFFSETFROM:-0500
TZOFFSETTO:-0400
TZNAME:EDT
DTSTART:20230312T070000
END:DAYLIGHT
BEGIN:STANDARD
TZOFFSETFROM:-0400
TZOFFSETTO:-0500
TZNAME:EST
DTSTART:20231105T060000
END:STANDARD
BEGIN:DAYLIGHT
TZOFFSETFROM:-0500
TZOFFSETTO:-0400
TZNAME:EDT
DTSTART:20240310T070000
END:DAYLIGHT
BEGIN:STANDARD
TZOFFSETFROM:-0400
TZOFFSETTO:-0500
TZNAME:EST
DTSTART:20241103T060000
END:STANDARD
BEGIN:DAYLIGHT
TZOFFSETFROM:-0500
TZOFFSETTO:-0400
TZNAME:EDT
DTSTART:20250309T070000
END:DAYLIGHT
BEGIN:STANDARD
TZOFFSETFROM:-0400
TZOFFSETTO:-0500
TZNAME:EST
DTSTART:20251102T060000
END:STANDARD
BEGIN:DAYLIGHT
TZOFFSETFROM:-0500
TZOFFSETTO:-0400
TZNAME:EDT
DTSTART:20260308T070000
END:DAYLIGHT
BEGIN:STANDARD
TZOFFSETFROM:-0400
TZOFFSETTO:-0500
TZNAME:EST
DTSTART:20261101T060000
END:STANDARD
END:VTIMEZONE
BEGIN:VEVENT
DTSTART;TZID=America/Detroit:20251206T090000
DTEND;TZID=America/Detroit:20251206T150000
DTSTAMP:20260421T054045
CREATED:20251031T134616Z
LAST-MODIFIED:20251031T134616Z
UID:1392-1765011600-1765033200@bysarahsteele.com
SUMMARY:HCA Craft Show
DESCRIPTION:Beautiful holiday show. I have many new flower-pressed cards plus the usual poetry and watercolor art\, books\, and cds of my music. Would love to send you home with something special!
URL:https://bysarahsteele.com/event/hca-craft-show/
LOCATION:Heritage Christian Academy\, 6312 Quail Run Drive\, Kalamazoo\, MI
CATEGORIES:Market
ATTACH;FMTTYPE=image/jpeg:https://bysarahsteele.com/wp-content/uploads/2025/10/Screenshot-2025-10-31-at-09.42.11-Large.jpeg
END:VEVENT
BEGIN:VEVENT
DTSTART;TZID=America/Detroit:20251108T100000
DTEND;TZID=America/Detroit:20251108T120000
DTSTAMP:20260421T054045
CREATED:20250903T134627Z
LAST-MODIFIED:20250903T134627Z
UID:1387-1762596000-1762603200@bysarahsteele.com
SUMMARY:An Ocean Without (Private Event)
DESCRIPTION:Hear the five songs from An Ocean Without with their stories woven throughout. This will be a meaningful and intimate event. \nWould you like to host an event just for your friends and family? I share poems and music based on life experiences that connect with people of all walks of life.
URL:https://bysarahsteele.com/event/an-ocean-without-private-event/
LOCATION:MI
CATEGORIES:Book Performance
END:VEVENT
BEGIN:VEVENT
DTSTART;TZID=America/Detroit:20251010T170000
DTEND;TZID=America/Detroit:20251012T120000
DTSTAMP:20260421T054045
CREATED:20250723T160653Z
LAST-MODIFIED:20250903T134242Z
UID:1376-1760115600-1760270400@bysarahsteele.com
SUMMARY:Christian Women's Retreat at Gull Lake Ministries
DESCRIPTION:Are you feeling spiritually dry\, overwhelmed by life’s demands\, or simply in need of a sacred pause? The Olive Leaf Retreat is your invitation to step away from the noise and rediscover the peace and purpose God has for you. \nJoin us for a powerful weekend designed to pour into women just like you—through biblical teaching\, heartfelt prayer\, soul-stirring worship\, meaningful connection\, laughter\, and rest. \nWhether you’re a leader\, a seeker\, or somewhere in between\, this retreat offers space to breathe deeply\, hear from God\, and reconnect with your calling in a supportive\, Spirit-filled environment. \nWhat to Expect:\n🌿 Inspiring sessions rooted in Scripture\n🌿 Intimate times of prayer and worship\n🌿 Opportunities for laughter\, connection\, and healing\n🌿 Time to rest\, reflect\, and recharge \nThroughout the weekend\, I’ll be leading us in worship as we lift our voices together. Then in the closing session\, I have the privilege of sharing some reflections on how God frees us from people-pleasing and how healthy boundaries can help us walk in that freedom—of course\, with poetry and Scripture mixed in. \n  \nUSE MY COUPON CODE FRIENDOFSARAH TO TAKE $50 OFF THE PRICE.
URL:https://bysarahsteele.com/event/christian-womens-retreat/
LOCATION:Gull Lake Ministries\, 1800 Burlington Dr.\, Hickory Corners\, MI
CATEGORIES:Workshop
ATTACH;FMTTYPE=image/jpeg:https://bysarahsteele.com/wp-content/uploads/2025/07/Screenshot-2025-09-03-at-7.00.30-AM-Large.jpeg
END:VEVENT
BEGIN:VEVENT
DTSTART;TZID=America/Detroit:20250918T170000
DTEND;TZID=America/Detroit:20250918T220000
DTSTAMP:20260421T054045
CREATED:20250718T133250Z
LAST-MODIFIED:20250718T133250Z
UID:1372-1758214800-1758232800@bysarahsteele.com
SUMMARY:September Night Market
DESCRIPTION:Night Markets are the place to be on a Thursday night in Kalamazoo! With around 100 vendors\, you’ll find more Artisans than you’re used to on a Saturday\, AND you’ll also be able to complete your trip with fresh fruits and veggies\, meat\, cheese\, and a bunch of locally made value-added products. I’ll have my books\, cds\, t-shirts\, stickers\, and printed artwork available for purchase.
URL:https://bysarahsteele.com/event/september-night-market/
LOCATION:Kalamazoo Farmer’s Market\, 1204 Bank Street\, Kalamazoo\, MI\, 49001
CATEGORIES:Market
END:VEVENT
BEGIN:VEVENT
DTSTART;TZID=America/Detroit:20250821T170000
DTEND;TZID=America/Detroit:20250821T220000
DTSTAMP:20260421T054045
CREATED:20250718T133108Z
LAST-MODIFIED:20250718T133307Z
UID:1368-1755795600-1755813600@bysarahsteele.com
SUMMARY:August Night Market
DESCRIPTION:Night Markets are the place to be on a Thursday night in Kalamazoo! With around 100 vendors\, you’ll find more Artisans than you’re used to on a Saturday\, AND you’ll also be able to complete your trip with fresh fruits and veggies\, meat\, cheese\, and a bunch of locally made value-added products. I’ll have my books\, cds\, t-shirts\, stickers\, and printed artwork available for purchase.
URL:https://bysarahsteele.com/event/night-market/
LOCATION:Kalamazoo Farmer’s Market\, 1204 Bank Street\, Kalamazoo\, MI\, 49001
CATEGORIES:Market
END:VEVENT
BEGIN:VEVENT
DTSTART;VALUE=DATE:20250726
DTEND;VALUE=DATE:20250727
DTSTAMP:20260421T054045
CREATED:20250525T231455Z
LAST-MODIFIED:20250718T133339Z
UID:1341-1753488000-1753574399@bysarahsteele.com
SUMMARY:Revive Music Fest
DESCRIPTION:I’ll be sharing a few poems and original songs during Pete & Bergie’s set at the Revive Fest in Leonidas\, MI. (This is a first for me\, woo hoo!) Tons of artists\, big and small\, will be performing here!
URL:https://bysarahsteele.com/event/revive-music-fest/
LOCATION:En Gedi Resort\, 30321 Covey Road\, Leonidas\, MI\, 49066
CATEGORIES:Spoken Word
END:VEVENT
BEGIN:VEVENT
DTSTART;TZID=America/Detroit:20250712T180000
DTEND;TZID=America/Detroit:20250712T200000
DTSTAMP:20260421T054045
CREATED:20250312T110647Z
LAST-MODIFIED:20250618T013439Z
UID:1331-1752343200-1752350400@bysarahsteele.com
SUMMARY:An Ocean Without Full Performance
DESCRIPTION: Do you feel guilty for setting boundaries—or worn out from trying to please everyone? You’re not alone. An Ocean Without is a powerful performance of original poetry and music rooted in Scripture and real-life struggle. With a soulful vulnerability\, Sarah Steele gives voice to the weary and invites you into the freedom of living within God-given limits.  \nCheck out my YouTube channel or Spotify to hear a sneak peek of the music.
URL:https://bysarahsteele.com/event/an-ocean-without-full-performance/
LOCATION:Bridgepoint Mission Center\, 1960 Hwy 23\, Wisconsin Dells\, WI
CATEGORIES:Book Performance
ATTACH;FMTTYPE=image/jpeg:https://bysarahsteele.com/wp-content/uploads/2025/03/PoetryPerformance-Flyer-WI-16x9-1-scaled.jpg
END:VEVENT
BEGIN:VEVENT
DTSTART;TZID=America/Detroit:20250501T153000
DTEND;TZID=America/Detroit:20250501T183000
DTSTAMP:20260421T054045
CREATED:20250421T094947Z
LAST-MODIFIED:20250421T095718Z
UID:1335-1746113400-1746124200@bysarahsteele.com
SUMMARY:Local Author Fair at the Otsego Library
DESCRIPTION:Local authors\, local books\, local interest! I’ll have books and a few book-related art pieces for sale. Stop by and say hi\, and be delighted at just how many published authors live in our area! \nSee their Facebook event for more details: https://www.facebook.com/share/18nSmvWo7X/
URL:https://bysarahsteele.com/event/local-author-fair-at-the-otsego-library/
LOCATION:Otsego District Public Library\, 401 Dix St.\, Otsego\, MI
CATEGORIES:Market
END:VEVENT
BEGIN:VEVENT
DTSTART;TZID=America/Detroit:20250403T103000
DTEND;TZID=America/Detroit:20250403T113000
DTSTAMP:20260421T054045
CREATED:20250103T021043Z
LAST-MODIFIED:20250103T021043Z
UID:1306-1743676200-1743679800@bysarahsteele.com
SUMMARY:The Shoephabet + The Monsterbet Kids' Program
DESCRIPTION:A fun kids program featuring my two alphabet books\, The Shoephabet and The Monsterbet. Enjoy these hand-drawn characters that will walk and giggle with you through the alphabet! Recommended ages 2-6.
URL:https://bysarahsteele.com/event/the-shoephabet-the-monsterbet-kids-program/
LOCATION:Comstock Library\, 6130 King Hwy\, Kalamazoo\, MI
CATEGORIES:Kids
END:VEVENT
BEGIN:VEVENT
DTSTART;TZID=America/Detroit:20250329T190000
DTEND;TZID=America/Detroit:20250329T203000
DTSTAMP:20260421T054045
CREATED:20250218T125159Z
LAST-MODIFIED:20250218T125159Z
UID:1325-1743274800-1743280200@bysarahsteele.com
SUMMARY:Timid Poets Society OPEN MIC
DESCRIPTION:The Timid Poet Society Open Mics have become a favorite for me! Poetry\, essays\, and songs offered by local creatives are sure to make for a great night. Come to listen—come to share. Even if it’s your first time\, you are welcome! Meets in a church basement; open to all. Doors open at 6:30pm. Snacks provided.
URL:https://bysarahsteele.com/event/timid-poets-society-open-mic/
LOCATION:Phoenix Community Church\, 2208 Winchell Avenue\, Kalamazoo\, MI
CATEGORIES:Spoken Word
END:VEVENT
BEGIN:VEVENT
DTSTART;VALUE=DATE:20250328
DTEND;VALUE=DATE:20250329
DTSTAMP:20260421T054045
CREATED:20250306T020625Z
LAST-MODIFIED:20250306T020625Z
UID:1329-1743120000-1743206399@bysarahsteele.com
SUMMARY:School Author Visit
DESCRIPTION:School author visit at Calhoun Christian School in Battle Creek\, MI.
URL:https://bysarahsteele.com/event/school-author-visit/
LOCATION:MI
CATEGORIES:Kids,Workshop
END:VEVENT
BEGIN:VEVENT
DTSTART;TZID=America/Detroit:20250313T180000
DTEND;TZID=America/Detroit:20250313T200000
DTSTAMP:20260421T054045
CREATED:20241123T221027Z
LAST-MODIFIED:20241124T021620Z
UID:1279-1741888800-1741896000@bysarahsteele.com
SUMMARY:Shepherd's Heart Banquet
DESCRIPTION:Shepherd’s Heart is a counseling ministry of care and restoration. I have personally been greatly impacted by multiple counselors\, which is a huge part of my personal story of healing. I am honored to get to share a section of poems as well as original songs to meet the banquet’s theme of God’s power and goodness meeting us in seasons of weakness. Hannah Peters will join me for the music portion. If you would like to hear how Shepherd’s Heart is affecting lives in the greater Southwest Michigan area and would like to see how you can contribute to their cause\, please consider attending this fundraising banquet!
URL:https://bysarahsteele.com/event/shepherds-heart-banquet/
LOCATION:The Girl Scout Building\, 601 W Maple St\, Kalamazoo\, MI
CATEGORIES:Spoken Word
END:VEVENT
BEGIN:VEVENT
DTSTART;TZID=America/Detroit:20250307T180000
DTEND;TZID=America/Detroit:20250307T200000
DTSTAMP:20260421T054045
CREATED:20250306T020513Z
LAST-MODIFIED:20250306T020513Z
UID:1327-1741370400-1741377600@bysarahsteele.com
SUMMARY:Watercolor Class
DESCRIPTION:Private watercolor class for 10 women.
URL:https://bysarahsteele.com/event/watercolor-class/
LOCATION:MI
CATEGORIES:Workshop
END:VEVENT
BEGIN:VEVENT
DTSTART;TZID=America/Detroit:20250306T183000
DTEND;TZID=America/Detroit:20250306T200000
DTSTAMP:20260421T054045
CREATED:20241123T215313Z
LAST-MODIFIED:20250119T203828Z
UID:1272-1741285800-1741291200@bysarahsteele.com
SUMMARY:An Ocean Without Performance
DESCRIPTION:One-hour performance of An Ocean Without (poems only) at the Otsego District Public Library. Free to attend. Books and art available for sale. See Facebook event page for more information.
URL:https://bysarahsteele.com/event/an-ocean-without-performance-2/
LOCATION:Otsego District Public Library\, 401 Dix St.\, Otsego\, MI
CATEGORIES:Book Performance
ATTACH;FMTTYPE=image/jpeg:https://bysarahsteele.com/wp-content/uploads/2024/11/IMG_8289.jpg
END:VEVENT
BEGIN:VEVENT
DTSTART;TZID=America/Detroit:20250301T090000
DTEND;TZID=America/Detroit:20250301T110000
DTSTAMP:20260421T054045
CREATED:20241123T220026Z
LAST-MODIFIED:20250202T231848Z
UID:1275-1740819600-1740826800@bysarahsteele.com
SUMMARY:A Day of Workshops for Women
DESCRIPTION:Calvary Bible Church is offering a whole day of workshops to women of all ages and backgrounds. \nMy workshop is 9:00-11:00 and will be a guided poetry experience. See below for the description: \nWho walked beside you when life felt heavy? Who made you feel seen\, heard\, or understood in ways that changed your heart? Who guided your steps or simply stood with you in silence? \nIn this workshop\, we will explore the practice of gratitude through poetry\, reflecting on those who have supported us in times of need. Through a process of personal writing\, we’ll uncover the metaphors that best capture the impact of these pivotal relationships. This experience will invite you to express your appreciation in a deeply personal way\, tapping into emotions of gratitude and connection. \nTogether\, we’ll transform these reflections into poems and then bring them to life by writing them out on beautiful cards—so that you can share your words of thanks with the person who has made a difference in your life. \nCome prepared to honor the past\, celebrate the present\, and create something meaningful to share with someone who matters. \nREGISTER HERE \n 
URL:https://bysarahsteele.com/event/a-day-of-workshops-for-women/
LOCATION:Calvary Bible Church\, 855 South Drake Road\, Kalamazoo\, MI
CATEGORIES:Workshop
END:VEVENT
BEGIN:VEVENT
DTSTART;TZID=America/Detroit:20250227T180000
DTEND;TZID=America/Detroit:20250227T200000
DTSTAMP:20260421T054045
CREATED:20250103T004053Z
LAST-MODIFIED:20250119T203934Z
UID:1299-1740679200-1740686400@bysarahsteele.com
SUMMARY:An Ocean Without Performance (w/Poems & Songs)
DESCRIPTION:Do you find yourself living beyond your limitations? Do you feel like a villain\, even when setting much-needed boundaries? In her Amazon #1 Top New Release An Ocean Without\, Sarah Steele shares her story of living without boundaries\, confronting deep wounds\, battling debilitating anxiety\, and finding freedom on the other side. \nI have the privilege of sharing the full-length version of my story\, told through poetry and original song. This event is free (women only:)) but does require an RSVP as space is limited: Allison Dillon 269-349-9788 or office@hopekzoo.com. \nSee Facebook event page for more details.
URL:https://bysarahsteele.com/event/an-ocean-without-performance-3/
LOCATION:Hope Church\, 910 Jenks Blvd\, Kalamazoo\, MI
CATEGORIES:Book Performance
ATTACH;FMTTYPE=image/jpeg:https://bysarahsteele.com/wp-content/uploads/2025/01/PoetryPerformance-Invite-HopeChurch-header.jpg
ORGANIZER;CN="Allison Dillon":MAILTO:office@hopekzoo.com
END:VEVENT
BEGIN:VEVENT
DTSTART;TZID=America/Detroit:20250211T183000
DTEND;TZID=America/Detroit:20250211T200000
DTSTAMP:20260421T054045
CREATED:20241019T124857Z
LAST-MODIFIED:20250210T230549Z
UID:1244-1739298600-1739304000@bysarahsteele.com
SUMMARY:"For Those Who Walked Beside Us" WORKSHOP
DESCRIPTION:Who walked beside you when life felt heavy? Who made you feel seen\, heard\, or understood in ways that changed your heart? Who guided your steps or simply stood with you in silence? \nIn this workshop\, we will explore the power of gratitude through poetry\, reflecting on those who have been our support in times of need. Through a process of personal writing\, we’ll uncover the metaphors that best capture the impact of these pivotal relationships. This experience will invite you to express your appreciation in a deeply personal way\, tapping into emotions of gratitude and connection. \nTogether\, we’ll transform these reflections into poems and then bring them to life by writing them out on beautiful cards—so that you can share your words of thanks with the person who has made a difference in your life. \nCome prepared to honor the past\, celebrate the present\, and create something meaningful to share with someone who matters. \nOpen to the public and free! CLICK HERE TO REGISTER.
URL:https://bysarahsteele.com/event/for-those-who-walked-beside-us-workshop/
LOCATION:Northside Association for Community Development\, 612 N Park St.\, Kalamazoo\, MI
CATEGORIES:Workshop
ATTACH;FMTTYPE=image/jpeg:https://bysarahsteele.com/wp-content/uploads/2024/10/https-cdn.evbuc_.com-images-905701963-1437513807113-1-original.20241125-023036.jpeg
END:VEVENT
BEGIN:VEVENT
DTSTART;TZID=America/Detroit:20241212T180000
DTEND;TZID=America/Detroit:20241212T200000
DTSTAMP:20260421T054045
CREATED:20241019T124459Z
LAST-MODIFIED:20250103T022253Z
UID:1241-1734026400-1734033600@bysarahsteele.com
SUMMARY:An Ocean Without FULL Performance
DESCRIPTION:**THIS EVENT IS SOLD OUT** \nI have the privilege of sharing the full-length version of my story\, told through poetry and song. Warm drinks and desserts will be shared at beautifully decorated tables. This event is free (women only:)) but does require an RSVP as space is limited.
URL:https://bysarahsteele.com/event/an-ocean-without-performance/
LOCATION:Northeastern Baptist Church\, 6536 G Ave E\, Kalamazoo\, MI
CATEGORIES:Book Performance
ATTACH;FMTTYPE=image/jpeg:https://bysarahsteele.com/wp-content/uploads/2024/10/IMG_5968-2.jpeg
END:VEVENT
BEGIN:VEVENT
DTSTART;TZID=America/Detroit:20241207T190000
DTEND;TZID=America/Detroit:20241207T203000
DTSTAMP:20260421T054045
CREATED:20241102T112939Z
LAST-MODIFIED:20241124T174250Z
UID:1258-1733598000-1733603400@bysarahsteele.com
SUMMARY:Open Mic
DESCRIPTION:The Timid Poet Society Open Mics have become a favorite for me! Poetry\, essays\, and songs offered by local creatives are sure to make for a great night. Come to listen—come to share. Even if it’s your first time\, you are welcome! Meets in a church basement; open to all. Doors open at 6:30pm. Snacks provided.
URL:https://bysarahsteele.com/event/open-mic/
LOCATION:Phoenix Community Church\, 2208 Winchell Avenue\, Kalamazoo\, MI
CATEGORIES:Spoken Word
ATTACH;FMTTYPE=image/jpeg:https://bysarahsteele.com/wp-content/uploads/2024/11/464246719_575607424804262_1538452833183078279_n.png.jpeg
END:VEVENT
BEGIN:VEVENT
DTSTART;TZID=America/Detroit:20241207T090000
DTEND;TZID=America/Detroit:20241207T150000
DTSTAMP:20260421T054045
CREATED:20241019T124123Z
LAST-MODIFIED:20241019T124910Z
UID:1236-1733562000-1733583600@bysarahsteele.com
SUMMARY:Holiday Craft & Bake Sale
DESCRIPTION:This is my best market each year. The vendors really are one-of-a-kind—smalltown folk like myself who just desire to offer our small gifts to our little world. Always unique homemade gifts at this one!
URL:https://bysarahsteele.com/event/holiday-craft-bake-sale/
LOCATION:Heritage Christian Academy\, 6312 Quail Run Drive\, Kalamazoo\, MI
CATEGORIES:Market
ATTACH;FMTTYPE=image/jpeg:https://bysarahsteele.com/wp-content/uploads/2024/10/Screenshot-2024-10-19-at-8.36.17-AM-Large.jpeg
END:VEVENT
BEGIN:VEVENT
DTSTART;TZID=America/Detroit:20241206T170000
DTEND;TZID=America/Detroit:20241206T210000
DTSTAMP:20260421T054045
CREATED:20241019T222450Z
LAST-MODIFIED:20241124T020628Z
UID:1254-1733504400-1733518800@bysarahsteele.com
SUMMARY:December Art Hop
DESCRIPTION:Art Hop is happening 5-9pm\, and Hannah Peters and I will be playing Christmas music 6-8pm at Colors and Cocktails. It’ll be a sweet\, fun night downtown Kalamazoo — hunting for the perfect gift and getting into the holiday spirit!
URL:https://bysarahsteele.com/event/december-art-hop/
LOCATION:Colors and Cocktails\, 240 S Kalamazoo Mall\, Kalamazoo\, MI
CATEGORIES:Market
END:VEVENT
BEGIN:VEVENT
DTSTART;TZID=America/Detroit:20241101T170000
DTEND;TZID=America/Detroit:20241101T210000
DTSTAMP:20260421T054045
CREATED:20241019T222315Z
LAST-MODIFIED:20241021T110143Z
UID:1251-1730480400-1730494800@bysarahsteele.com
SUMMARY:November Art Hop
DESCRIPTION:Join the artistic fun downtown Kalamazoo! I’ll be a vendor at Colors and Cocktails. So many great\, local gifts to buy!
URL:https://bysarahsteele.com/event/november-art-hop/
LOCATION:Colors and Cocktails\, 240 S Kalamazoo Mall\, Kalamazoo\, MI
CATEGORIES:Market
ATTACH;FMTTYPE=image/jpeg:https://bysarahsteele.com/wp-content/uploads/2024/10/459423115_841036481474822_2336860913481482738_n.jpg
END:VEVENT
BEGIN:VEVENT
DTSTART;TZID=America/Detroit:20241026T110000
DTEND;TZID=America/Detroit:20241026T120000
DTSTAMP:20260421T054045
CREATED:20241019T122903Z
LAST-MODIFIED:20241019T124915Z
UID:1231-1729940400-1729944000@bysarahsteele.com
SUMMARY:Poetry and Tea Tasting
DESCRIPTION:The Village Tea has graciously offered their space and delicious tea to be paired with some equally yummy poetry. This is NOT an An Ocean Without performance. Instead\, I’ll be sharing mostly poems I haven’t shared publicly before with some stories interspersed throughout. You know “The Village Poet” will make an appearance at this perfectly-named establishment. Sounds like we’ll have a great turnout! Find a full lunch at other local shops down the street.
URL:https://bysarahsteele.com/event/poetry-and-tea-tasting/
LOCATION:The Village Tea\, 8960 E D Ave.\, Richland\, MI
CATEGORIES:Spoken Word
ATTACH;FMTTYPE=image/jpeg:https://bysarahsteele.com/wp-content/uploads/2024/10/IMG_0090.jpg
END:VEVENT
BEGIN:VEVENT
DTSTART;TZID=America/Detroit:20241019T190000
DTEND;TZID=America/Detroit:20241019T220000
DTSTAMP:20260421T054045
CREATED:20241019T112640Z
LAST-MODIFIED:20241019T113815Z
UID:1221-1729364400-1729375200@bysarahsteele.com
SUMMARY:Kalamazoo House Show
DESCRIPTION:Two local musicians and a poet (that’s me!). I’ll share a few An Ocean Without poems\, a few brand-new ones that are powerful read out loud\, and then a reeeeally old one that I recently re-found that took me back to the good/hard parts of the little babies season of life. And then folk artist Hannah Peters from Pete & Bergie will join me to share one song from my main performance.
URL:https://bysarahsteele.com/event/kalamazoo-house-show/
LOCATION:French Allen House\, 418 Stuart Ave\, Kalamazoo\, MI
CATEGORIES:Spoken Word
ATTACH;FMTTYPE=image/jpeg:https://bysarahsteele.com/wp-content/uploads/2024/10/Kzoo-HouseShow.jpg
END:VEVENT
BEGIN:VEVENT
DTSTART;TZID=America/Detroit:20240709T183000
DTEND;TZID=America/Detroit:20240709T200000
DTSTAMP:20260421T054045
CREATED:20241019T221933Z
LAST-MODIFIED:20241019T222515Z
UID:1247-1720549800-1720555200@bysarahsteele.com
SUMMARY:Spoken Word Performance of An Ocean Without: Learning to Embrace Boundaries
DESCRIPTION:Shortened performance of the book at the Oshtemo Library. Refreshments provided.
URL:https://bysarahsteele.com/event/spoken-word-performance-of-an-ocean-without-learning-to-embrace-boundaries/
LOCATION:Oshtemo Library\, 7265 W Main St\, Kalamazoo\, MI
CATEGORIES:Book Performance
ATTACH;FMTTYPE=image/png:https://bysarahsteele.com/wp-content/uploads/2024/10/CTA-summer24-an-ocean-withoutArtboard-1.png
END:VEVENT
END:VCALENDAR